Package: CRCL18 Version: 1.30.0 Command: /home/biocbuild/bbs-3.22-bioc/R/bin/R CMD build --keep-empty-dirs --no-resave-data CRCL18 StartedAt: 2025-11-06 11:11:32 -0500 (Thu, 06 Nov 2025) EndedAt: 2025-11-06 11:11:37 -0500 (Thu, 06 Nov 2025) EllapsedTime: 5.4 seconds RetCode: 0 Status: OK PackageFile: CRCL18_1.30.0.tar.gz PackageFileSize: 2.461 MiB