Package: COSMIC.67 Version: 1.46.0 Command: /home/biocbuild/bbs-3.22-bioc/R/bin/R CMD INSTALL COSMIC.67 StartedAt: 2025-11-06 11:03:33 -0500 (Thu, 06 Nov 2025) EndedAt: 2025-11-06 11:04:09 -0500 (Thu, 06 Nov 2025) EllapsedTime: 36.0 seconds RetCode: 0 Status: OK