Package: CONFESSdata Version: 1.36.0 Command: /home/biocbuild/bbs-3.21-bioc/R/bin/R CMD INSTALL CONFESSdata StartedAt: 2025-10-16 10:55:32 -0400 (Thu, 16 Oct 2025) EndedAt: 2025-10-16 10:55:34 -0400 (Thu, 16 Oct 2025) EllapsedTime: 1.7 seconds RetCode: 0 Status: OK