Package: CONFESSdata Version: 1.36.0 Command: /home/biocbuild/bbs-3.21-bioc/R/bin/R CMD build --keep-empty-dirs --no-resave-data CONFESSdata StartedAt: 2025-10-16 11:09:54 -0400 (Thu, 16 Oct 2025) EndedAt: 2025-10-16 11:10:29 -0400 (Thu, 16 Oct 2025) EllapsedTime: 34.3 seconds RetCode: 0 Status: OK PackageFile: CONFESSdata_1.36.0.tar.gz PackageFileSize: 9.832 MiB