Package: COHCAPanno Version: 1.46.0 Command: /home/biocbuild/bbs-3.22-bioc/R/bin/R CMD INSTALL COHCAPanno StartedAt: 2025-11-06 10:55:43 -0500 (Thu, 06 Nov 2025) EndedAt: 2025-11-06 10:55:45 -0500 (Thu, 06 Nov 2025) EllapsedTime: 2.4 seconds RetCode: 0 Status: OK