Package: CLLmethylation Version: 1.30.0 Command: /home/biocbuild/bbs-3.22-bioc/R/bin/R CMD INSTALL CLLmethylation StartedAt: 2025-11-06 10:59:40 -0500 (Thu, 06 Nov 2025) EndedAt: 2025-11-06 10:59:59 -0500 (Thu, 06 Nov 2025) EllapsedTime: 18.7 seconds RetCode: 0 Status: OK