Package: CLLmethylation Version: 1.28.0 Command: /home/biocbuild/bbs-3.21-bioc/R/bin/R CMD INSTALL CLLmethylation StartedAt: 2025-10-09 11:00:57 -0400 (Thu, 09 Oct 2025) EndedAt: 2025-10-09 11:01:14 -0400 (Thu, 09 Oct 2025) EllapsedTime: 17.4 seconds RetCode: 0 Status: OK