Package: CLL Version: 1.50.0 Command: /home/biocbuild/bbs-3.22-bioc/R/bin/R CMD INSTALL CLL StartedAt: 2025-11-06 10:56:10 -0500 (Thu, 06 Nov 2025) EndedAt: 2025-11-06 10:56:14 -0500 (Thu, 06 Nov 2025) EllapsedTime: 4.7 seconds RetCode: 0 Status: OK