Package: CENTREprecomputed Version: 1.0.0 Command: /home/biocbuild/bbs-3.22-bioc/R/bin/R CMD INSTALL CENTREprecomputed StartedAt: 2025-11-06 10:57:36 -0500 (Thu, 06 Nov 2025) EndedAt: 2025-11-06 10:57:49 -0500 (Thu, 06 Nov 2025) EllapsedTime: 13.1 seconds RetCode: 0 Status: OK