Package: CENTREprecomputed Version: 1.0.0 Command: /home/biocbuild/bbs-3.22-bioc/R/bin/R CMD build --keep-empty-dirs --no-resave-data CENTREprecomputed StartedAt: 2025-11-06 11:09:17 -0500 (Thu, 06 Nov 2025) EndedAt: 2025-11-06 11:09:48 -0500 (Thu, 06 Nov 2025) EllapsedTime: 30.1 seconds RetCode: 0 Status: OK PackageFile: CENTREprecomputed_1.0.0.tar.gz PackageFileSize: 225.8 KiB