Package: CCl4 Version: 1.48.0 Maintainer: Audrey Kauffmann MaintainerEmail: audrey at ebi.ac.uk git_url: https://git.bioconductor.org/packages/CCl4 git_branch: RELEASE_3_22 git_last_commit: db6abcd git_last_commit_date: 2025-10-29 09:30:55 -0400 (Wed, 29 Oct 2025)