Package: BloodCancerMultiOmics2017 Version: 1.28.0 Command: /home/biocbuild/bbs-3.21-bioc/R/bin/R CMD build --keep-empty-dirs --no-resave-data BloodCancerMultiOmics2017 StartedAt: 2025-10-02 11:06:52 -0400 (Thu, 02 Oct 2025) EndedAt: 2025-10-02 11:37:19 -0400 (Thu, 02 Oct 2025) EllapsedTime: 1827.3 seconds RetCode: 0 Status: OK PackageFile: BloodCancerMultiOmics2017_1.28.0.tar.gz PackageFileSize: 53.69 MiB