Package: BioPlex Version: 1.16.0 Command: /home/biocbuild/bbs-3.22-bioc/R/bin/R CMD build --keep-empty-dirs --no-resave-data BioPlex StartedAt: 2025-11-06 11:07:53 -0500 (Thu, 06 Nov 2025) EndedAt: 2025-11-06 11:10:08 -0500 (Thu, 06 Nov 2025) EllapsedTime: 134.9 seconds RetCode: 1 Status: ERROR PackageFile: None PackageFileSize: NA