Package: BioPlex Version: 1.16.0 Maintainer: Ludwig Geistlinger MaintainerEmail: ludwig_geistlinger at hms.harvard.edu git_url: https://git.bioconductor.org/packages/BioPlex git_branch: RELEASE_3_22 git_last_commit: b8a9532 git_last_commit_date: 2025-10-29 10:05:00 -0500 (Wed, 29 Oct 2025)