Package: BioImageDbs Version: 1.16.0 Command: /home/biocbuild/bbs-3.21-bioc/R/bin/R CMD build --keep-empty-dirs --no-resave-data BioImageDbs StartedAt: 2025-10-02 11:06:36 -0400 (Thu, 02 Oct 2025) EndedAt: 2025-10-02 11:10:02 -0400 (Thu, 02 Oct 2025) EllapsedTime: 205.6 seconds RetCode: 0 Status: OK PackageFile: BioImageDbs_1.16.0.tar.gz PackageFileSize: 44.22 MiB