Package: BeadArrayUseCases Version: 1.48.0 Command: /home/biocbuild/bbs-3.22-bioc/R/bin/R CMD INSTALL BeadArrayUseCases StartedAt: 2025-11-06 10:59:22 -0500 (Thu, 06 Nov 2025) EndedAt: 2025-11-06 10:59:43 -0500 (Thu, 06 Nov 2025) EllapsedTime: 21.2 seconds RetCode: 0 Status: OK