Package: BeadArrayUseCases Version: 1.48.0 Command: /home/biocbuild/bbs-3.22-bioc/R/bin/R CMD check --install=check:BeadArrayUseCases.install-out.txt --library=/home/biocbuild/bbs-3.22-bioc/R/site-library --timings BeadArrayUseCases_1.48.0.tar.gz StartedAt: 2025-11-06 12:02:13 -0500 (Thu, 06 Nov 2025) EndedAt: 2025-11-06 12:09:52 -0500 (Thu, 06 Nov 2025) EllapsedTime: 459.3 seconds RetCode: 0 Status: OK CheckDir: BeadArrayUseCases.Rcheck Warnings: 0