Package: BeadArrayUseCases Version: 1.48.0 Command: /home/biocbuild/bbs-3.22-bioc/R/bin/R CMD build --keep-empty-dirs --no-resave-data BeadArrayUseCases StartedAt: 2025-11-06 11:07:47 -0500 (Thu, 06 Nov 2025) EndedAt: 2025-11-06 11:15:02 -0500 (Thu, 06 Nov 2025) EllapsedTime: 435.0 seconds RetCode: 0 Status: OK PackageFile: BeadArrayUseCases_1.48.0.tar.gz PackageFileSize: 197.6 MiB