Package: AssessORFData Version: 1.28.0 Command: /home/biocbuild/bbs-3.22-bioc/R/bin/R CMD build --keep-empty-dirs --no-resave-data AssessORFData StartedAt: 2025-11-06 11:07:34 -0500 (Thu, 06 Nov 2025) EndedAt: 2025-11-06 11:09:07 -0500 (Thu, 06 Nov 2025) EllapsedTime: 92.6 seconds RetCode: 0 Status: OK PackageFile: AssessORFData_1.28.0.tar.gz PackageFileSize: 144.6 MiB