Package: AneuFinderData Version: 1.38.0 Command: /home/biocbuild/bbs-3.22-bioc/R/bin/R CMD INSTALL AneuFinderData StartedAt: 2025-11-06 10:55:23 -0500 (Thu, 06 Nov 2025) EndedAt: 2025-11-06 10:55:25 -0500 (Thu, 06 Nov 2025) EllapsedTime: 1.9 seconds RetCode: 0 Status: OK