Package: AneuFinderData Version: 1.38.0 Maintainer: Aaron Taudt MaintainerEmail: aaron.taudt at gmail.com git_url: https://git.bioconductor.org/packages/AneuFinderData git_branch: RELEASE_3_22 git_last_commit: 02b9cb8 git_last_commit_date: 2025-10-29 09:58:05 -0500 (Wed, 29 Oct 2025)