Package: AmpAffyExample Version: 1.50.0 Command: /home/biocbuild/bbs-3.22-bioc/R/bin/R CMD check --install=check:AmpAffyExample.install-out.txt --library=/home/biocbuild/bbs-3.22-bioc/R/site-library --timings AmpAffyExample_1.50.0.tar.gz StartedAt: 2025-11-20 12:11:47 -0500 (Thu, 20 Nov 2025) EndedAt: 2025-11-20 12:12:36 -0500 (Thu, 20 Nov 2025) EllapsedTime: 48.7 seconds RetCode: 0 Status: WARNINGS CheckDir: AmpAffyExample.Rcheck Warnings: 1