Package: AmpAffyExample Version: 1.50.0 Command: /home/biocbuild/bbs-3.22-bioc/R/bin/R CMD build --keep-empty-dirs --no-resave-data AmpAffyExample StartedAt: 2025-11-06 11:07:25 -0500 (Thu, 06 Nov 2025) EndedAt: 2025-11-06 11:07:27 -0500 (Thu, 06 Nov 2025) EllapsedTime: 2.3 seconds RetCode: 0 Status: OK PackageFile: AmpAffyExample_1.50.0.tar.gz PackageFileSize: 6.464 MiB