Package: Affyhgu133aExpr Version: 1.48.0 Command: /home/biocbuild/bbs-3.22-bioc/R/bin/R CMD build --keep-empty-dirs --no-resave-data Affyhgu133aExpr StartedAt: 2025-11-25 11:07:25 -0500 (Tue, 25 Nov 2025) EndedAt: 2025-11-25 11:07:47 -0500 (Tue, 25 Nov 2025) EllapsedTime: 22.0 seconds RetCode: 0 Status: OK PackageFile: Affyhgu133aExpr_1.48.0.tar.gz PackageFileSize: 316.1 MiB