Package: AWAggregatorData Version: 1.0.0 Command: /home/biocbuild/bbs-3.22-bioc/R/bin/R CMD INSTALL AWAggregatorData StartedAt: 2025-11-06 10:57:02 -0500 (Thu, 06 Nov 2025) EndedAt: 2025-11-06 10:57:14 -0500 (Thu, 06 Nov 2025) EllapsedTime: 12.7 seconds RetCode: 0 Status: OK