Package: ALLMLL Version: 1.50.0 Command: /home/biocbuild/bbs-3.22-bioc/R/bin/R CMD INSTALL ALLMLL StartedAt: 2025-11-06 10:56:20 -0500 (Thu, 06 Nov 2025) EndedAt: 2025-11-06 10:56:28 -0500 (Thu, 06 Nov 2025) EllapsedTime: 7.4 seconds RetCode: 0 Status: OK