Package: ALLMLL Version: 1.50.0 Maintainer: B. M. Bolstad MaintainerEmail: bmb at bmbolstad.com git_url: https://git.bioconductor.org/packages/ALLMLL git_branch: RELEASE_3_22 git_last_commit: 8af2a9d git_last_commit_date: 2025-10-29 09:23:13 -0400 (Wed, 29 Oct 2025)