Package: ALL Version: 1.52.0 Command: /home/biocbuild/bbs-3.22-bioc/R/bin/R CMD INSTALL ALL StartedAt: 2025-11-06 10:56:14 -0500 (Thu, 06 Nov 2025) EndedAt: 2025-11-06 10:56:18 -0500 (Thu, 06 Nov 2025) EllapsedTime: 3.8 seconds RetCode: 0 Status: OK