Package: ALL Version: 1.52.0 Command: /home/biocbuild/bbs-3.22-bioc/R/bin/R CMD build --keep-empty-dirs --no-resave-data ALL StartedAt: 2025-11-06 11:07:25 -0500 (Thu, 06 Nov 2025) EndedAt: 2025-11-06 11:07:42 -0500 (Thu, 06 Nov 2025) EllapsedTime: 17.3 seconds RetCode: 0 Status: OK PackageFile: ALL_1.52.0.tar.gz PackageFileSize: 10.93 MiB