Package: ALL Version: 1.52.0 Maintainer: Robert Gentleman MaintainerEmail: rgentlem at gmail.com git_url: https://git.bioconductor.org/packages/ALL git_branch: RELEASE_3_22 git_last_commit: 0bc53bb git_last_commit_date: 2025-10-29 09:23:11 -0500 (Wed, 29 Oct 2025)