Package: synaptome.db Version: 0.99.17 Command: /home/biocbuild/bbs-3.22-bioc/R/bin/R CMD INSTALL synaptome.db StartedAt: 2025-11-05 05:55:23 -0500 (Wed, 05 Nov 2025) EndedAt: 2025-11-05 05:55:48 -0500 (Wed, 05 Nov 2025) EllapsedTime: 25.0 seconds RetCode: 0 Status: OK