Package: rGenomeTracksData Version: 0.99.0 Command: /home/biocbuild/bbs-3.22-bioc/R/bin/R CMD build --keep-empty-dirs --no-resave-data rGenomeTracksData StartedAt: 2025-11-05 05:57:23 -0500 (Wed, 05 Nov 2025) EndedAt: 2025-11-05 05:57:42 -0500 (Wed, 05 Nov 2025) EllapsedTime: 19.0 seconds RetCode: 0 Status: OK PackageFile: rGenomeTracksData_0.99.0.tar.gz PackageFileSize: 10.03 KiB