Package: phastCons30way.UCSC.hg38 Version: 3.13.1 Command: /home/biocbuild/bbs-3.22-bioc/R/bin/R CMD build --keep-empty-dirs --no-resave-data phastCons30way.UCSC.hg38 StartedAt: 2025-11-05 05:57:20 -0500 (Wed, 05 Nov 2025) EndedAt: 2025-11-05 05:57:40 -0500 (Wed, 05 Nov 2025) EllapsedTime: 20.0 seconds RetCode: 0 Status: OK PackageFile: phastCons30way.UCSC.hg38_3.13.1.tar.gz PackageFileSize: 299.9 KiB