Package: metaboliteIDmapping Version: 0.99.11 Command: /home/biocbuild/bbs-3.22-bioc/R/bin/R CMD build --keep-empty-dirs --no-resave-data metaboliteIDmapping StartedAt: 2025-11-05 05:57:08 -0500 (Wed, 05 Nov 2025) EndedAt: 2025-11-05 05:58:24 -0500 (Wed, 05 Nov 2025) EllapsedTime: 75.9 seconds RetCode: 0 Status: OK PackageFile: metaboliteIDmapping_0.99.11.tar.gz PackageFileSize: 312.4 KiB