Package: excluderanges Version: 0.99.10 Command: /home/biocbuild/bbs-3.22-bioc/R/bin/R CMD INSTALL excluderanges StartedAt: 2025-11-05 05:55:07 -0500 (Wed, 05 Nov 2025) EndedAt: 2025-11-05 05:55:15 -0500 (Wed, 05 Nov 2025) EllapsedTime: 7.4 seconds RetCode: 0 Status: OK