Package: cadd.v1.6.hg19 Version: 3.18.1 Command: /home/biocbuild/bbs-3.22-bioc/R/bin/R CMD INSTALL cadd.v1.6.hg19 StartedAt: 2025-11-05 05:55:14 -0500 (Wed, 05 Nov 2025) EndedAt: 2025-11-05 05:55:32 -0500 (Wed, 05 Nov 2025) EllapsedTime: 17.3 seconds RetCode: 0 Status: OK