Package: alternativeSplicingEvents.hg19 Version: 1.1.0 Command: /home/biocbuild/bbs-3.22-bioc/R/bin/R CMD INSTALL alternativeSplicingEvents.hg19 StartedAt: 2025-11-05 05:55:14 -0500 (Wed, 05 Nov 2025) EndedAt: 2025-11-05 05:55:23 -0500 (Wed, 05 Nov 2025) EllapsedTime: 8.7 seconds RetCode: 0 Status: OK