Package: UniProtKeywords Version: 0.99.7 Command: /home/biocbuild/bbs-3.22-bioc/R/bin/R CMD INSTALL UniProtKeywords StartedAt: 2025-11-05 05:55:07 -0500 (Wed, 05 Nov 2025) EndedAt: 2025-11-05 05:55:10 -0500 (Wed, 05 Nov 2025) EllapsedTime: 2.7 seconds RetCode: 0 Status: OK