Package: UniProtKeywords Version: 0.99.7 Command: /home/biocbuild/bbs-3.21-bioc/R/bin/R CMD build --keep-empty-dirs --no-resave-data UniProtKeywords StartedAt: 2025-10-01 06:02:21 -0400 (Wed, 01 Oct 2025) EndedAt: 2025-10-01 06:02:25 -0400 (Wed, 01 Oct 2025) EllapsedTime: 4.2 seconds RetCode: 0 Status: OK PackageFile: UniProtKeywords_0.99.7.tar.gz PackageFileSize: 1.209 MiB