Package: UCSCRepeatMasker Version: 3.22.0 Command: /home/biocbuild/bbs-3.22-bioc/R/bin/R CMD INSTALL UCSCRepeatMasker StartedAt: 2025-11-05 05:55:09 -0500 (Wed, 05 Nov 2025) EndedAt: 2025-11-05 05:55:24 -0500 (Wed, 05 Nov 2025) EllapsedTime: 15.1 seconds RetCode: 0 Status: OK