Package: TENET.AnnotationHub Version: 1.1.0 Command: /home/biocbuild/bbs-3.22-bioc/R/bin/R CMD build --keep-empty-dirs --no-resave-data TENET.AnnotationHub StartedAt: 2025-11-05 05:57:27 -0500 (Wed, 05 Nov 2025) EndedAt: 2025-11-05 05:58:18 -0500 (Wed, 05 Nov 2025) EllapsedTime: 51.3 seconds RetCode: 0 Status: OK PackageFile: TENET.AnnotationHub_1.1.0.tar.gz PackageFileSize: 268 KiB