Package: SomaScan.db Version: 0.99.10 Command: /home/biocbuild/bbs-3.22-bioc/R/bin/R CMD build --keep-empty-dirs --no-resave-data SomaScan.db StartedAt: 2025-11-05 05:57:25 -0500 (Wed, 05 Nov 2025) EndedAt: 2025-11-05 05:58:20 -0500 (Wed, 05 Nov 2025) EllapsedTime: 55.4 seconds RetCode: 0 Status: OK PackageFile: SomaScan.db_0.99.10.tar.gz PackageFileSize: 2.134 MiB