Package: PANTHER.db Version: 1.0.12 Command: /home/biocbuild/bbs-3.22-bioc/R/bin/R CMD INSTALL PANTHER.db StartedAt: 2025-11-19 05:55:23 -0500 (Wed, 19 Nov 2025) EndedAt: 2025-11-19 05:55:41 -0500 (Wed, 19 Nov 2025) EllapsedTime: 18.5 seconds RetCode: 0 Status: OK