Package: GenomicState Version: 0.99.17 Command: /home/biocbuild/bbs-3.22-bioc/R/bin/R CMD INSTALL GenomicState StartedAt: 2025-11-05 05:55:25 -0500 (Wed, 05 Nov 2025) EndedAt: 2025-11-05 05:55:58 -0500 (Wed, 05 Nov 2025) EllapsedTime: 33.8 seconds RetCode: 0 Status: OK