Package: GenomicState Version: 0.99.17 Command: /home/biocbuild/bbs-3.22-bioc/R/bin/R CMD build --keep-empty-dirs --no-resave-data GenomicState StartedAt: 2025-11-05 05:56:40 -0500 (Wed, 05 Nov 2025) EndedAt: 2025-11-05 05:58:44 -0500 (Wed, 05 Nov 2025) EllapsedTime: 123.9 seconds RetCode: 0 Status: OK PackageFile: GenomicState_0.99.17.tar.gz PackageFileSize: 921 KiB