Package: EpiTxDb.Hs.hg38 Version: 0.99.7 Command: /home/biocbuild/bbs-3.22-bioc/R/bin/R CMD INSTALL EpiTxDb.Hs.hg38 StartedAt: 2025-11-05 05:55:30 -0500 (Wed, 05 Nov 2025) EndedAt: 2025-11-05 05:56:09 -0500 (Wed, 05 Nov 2025) EllapsedTime: 38.5 seconds RetCode: 0 Status: OK