Package: EpiTxDb.Hs.hg38 Version: 0.99.7 Command: /home/biocbuild/bbs-3.22-bioc/R/bin/R CMD build --keep-empty-dirs --no-resave-data EpiTxDb.Hs.hg38 StartedAt: 2025-11-05 05:56:20 -0500 (Wed, 05 Nov 2025) EndedAt: 2025-11-05 05:57:26 -0500 (Wed, 05 Nov 2025) EllapsedTime: 66.9 seconds RetCode: 0 Status: OK PackageFile: EpiTxDb.Hs.hg38_0.99.7.tar.gz PackageFileSize: 316.5 KiB