| Back to Long Tests report for BioC 3.22 | 
This page was generated on 2025-11-01 23:55 -0400 (Sat, 01 Nov 2025).
| QUICK STATS | OS / Arch | CHECK | |||||||
| nebbiolo2 | Linux (Ubuntu 24.04.3 LTS) / x86_64 | 
  | |||||||
| lconway | macOS 12.7.6 Monterey / x86_64 | 
  | |||||||
| Package | Maintainer | CHECK | |||||||
| 1/31 | APAlyzer 1.24.0 (landing page) | Ruijia Wang | ERROR | ||||||
| 2/31 | autonomics 1.18.0 (landing page) | Aditya Bhagwat | ERROR | ||||||
| 3/31 | beachmat 2.26.0 (landing page) | Aaron Lun | WARNINGS | ||||||
| 4/31 | biodb 1.18.0 (landing page) | Pierrick Roger | WARNINGS | ||||||
| 5/31 | biodbChebi 1.16.0 (landing page) | Pierrick Roger | ERROR | ||||||
| 6/31 | Pierrick Roger | ERROR | |||||||
| 7/31 | Pierrick Roger | ERROR | |||||||
| 8/31 | Pierrick Roger | ERROR | |||||||
| 9/31 | Pierrick Roger | ERROR | |||||||
| 10/31 | cBioPortalData 2.22.0 (landing page) | Marcel Ramos | ERROR | ||||||
| 11/31 | ChromSCape 1.20.0 (landing page) | Pacome Prompsy | ERROR | ||||||
| 12/31 | clusterExperiment 2.30.0 (landing page) | Elizabeth Purdom | ERROR | ||||||
| 13/31 | CRISPRball 1.6.0 (landing page) | Jared Andrews | OK | ||||||
| 14/31 | crisprScore 1.14.0 (landing page) | Jean-Philippe Fortin | ERROR | ||||||
| 15/31 | CTexploreR 1.6.0 (landing page) | Axelle Loriot | OK | ||||||
| 16/31 | DelayedMatrixStats 1.32.0 (landing page) | Peter Hickey | OK | ||||||
| 17/31 | DOtools 1.0.0 (landing page) | Mariano Ruz Jurado | ERROR | ||||||
| 18/31 | DropletUtils 1.30.0 (landing page) | Jonathan Griffiths | OK | ||||||
| 19/31 | EpiMix 1.12.0 (landing page) | Yuanning Zheng | OK | ||||||
| 20/31 | extraChIPs 1.14.0 (landing page) | Stevie Pederson | OK | ||||||
| 21/31 | GenomicFeatures 1.62.0 (landing page) | H. Pagès | WARNINGS | ||||||
| 22/31 | ginmappeR 1.6.0 (landing page) | Fernando Sola | ERROR | ||||||
| 23/31 | HDF5Array 1.38.0 (landing page) | Hervé Pagès | OK | ||||||
| 24/31 | midasHLA 1.18.0 (landing page) | Maciej Migdał | ERROR | ||||||
| 25/31 | mosdef 1.6.0 (landing page) | Federico Marini | OK | ||||||
| 26/31 | MungeSumstats 1.18.0 (landing page) | Alan Murphy | OK | ||||||
| 27/31 | rhdf5 2.54.0 (landing page) | Hugo Gruson | WARNINGS | ||||||
| 28/31 | SimBu 1.12.0 (landing page) | Alexander Dietrich | ERROR | ||||||
| 29/31 | TENxIO 1.12.0 (landing page) | Marcel Ramos | OK | ||||||
| 30/31 | xcms 4.8.0 (landing page) | Steffen Neumann | ERROR | ||||||
| 31/31 | zellkonverter 1.20.0 (landing page) | Luke Zappia | ERROR | ||||||