Package: spicyWorkflow Version: 1.9.1 Command: /home/biocbuild/bbs-3.22-bioc/R/bin/R CMD INSTALL spicyWorkflow StartedAt: 2025-10-07 13:00:13 -0400 (Tue, 07 Oct 2025) EndedAt: 2025-10-07 13:00:17 -0400 (Tue, 07 Oct 2025) EllapsedTime: 4.4 seconds RetCode: 0 Status: OK