Package: spicyWorkflow Version: 1.9.1 Command: /home/biocbuild/bbs-3.22-bioc/R/bin/R CMD build --keep-empty-dirs --no-resave-data spicyWorkflow StartedAt: 2025-10-07 13:12:06 -0400 (Tue, 07 Oct 2025) EndedAt: 2025-10-07 13:42:59 -0400 (Tue, 07 Oct 2025) EllapsedTime: 1852.9 seconds RetCode: 1 Status: ERROR PackageFile: None PackageFileSize: NA